BEGIN:VCALENDAR
VERSION:2.0
PRODID:-//Grain d&#039;Pixel - ECPv6.15.19//NONSGML v1.0//EN
CALSCALE:GREGORIAN
METHOD:PUBLISH
X-ORIGINAL-URL:https://grain-dpixel.fr/info
X-WR-CALDESC:Évènements pour Grain d&#039;Pixel
REFRESH-INTERVAL;VALUE=DURATION:PT1H
X-Robots-Tag:noindex
X-PUBLISHED-TTL:PT1H
BEGIN:VTIMEZONE
TZID:Europe/Paris
BEGIN:DAYLIGHT
TZOFFSETFROM:+0100
TZOFFSETTO:+0200
TZNAME:CEST
DTSTART:20190331T010000
END:DAYLIGHT
BEGIN:STANDARD
TZOFFSETFROM:+0200
TZOFFSETTO:+0100
TZNAME:CET
DTSTART:20191027T010000
END:STANDARD
BEGIN:DAYLIGHT
TZOFFSETFROM:+0100
TZOFFSETTO:+0200
TZNAME:CEST
DTSTART:20200329T010000
END:DAYLIGHT
BEGIN:STANDARD
TZOFFSETFROM:+0200
TZOFFSETTO:+0100
TZNAME:CET
DTSTART:20201025T010000
END:STANDARD
BEGIN:DAYLIGHT
TZOFFSETFROM:+0100
TZOFFSETTO:+0200
TZNAME:CEST
DTSTART:20210328T010000
END:DAYLIGHT
BEGIN:STANDARD
TZOFFSETFROM:+0200
TZOFFSETTO:+0100
TZNAME:CET
DTSTART:20211031T010000
END:STANDARD
END:VTIMEZONE
BEGIN:VEVENT
DTSTART;VALUE=DATE:20200413
DTEND;VALUE=DATE:20200414
DTSTAMP:20260424T053145
CREATED:20191203T092217Z
LAST-MODIFIED:20200401T091415Z
UID:7797-1586736000-1586822399@grain-dpixel.fr
SUMMARY:ANNULÉ : Sortie : Saint-Germain Bourse photo et sortie photo
DESCRIPTION:Le matin visite de la bourse photo de Saint Germain organisée par le collectif émulsion.\nA midi\, repas dans un restaurant\nL’après midi sortie photo dans les parages \nLes horaires et lieux de rendez-vous seront communiqués prochainement \nMerci de vous inscrire au plus tôt pour prévoir le covoiturage et les réservations.
URL:https://grain-dpixel.fr/info/event/sortie-saint-germain-bourse-photo-et-sortie-photo/
CATEGORIES:Sortie photo,Visite expo
ATTACH;FMTTYPE=image/jpeg:https://grain-dpixel.fr/info/wp-content/uploads/2019/12/020418@Yves-Gravelin-1.jpg
END:VEVENT
END:VCALENDAR