BEGIN:VCALENDAR
VERSION:2.0
PRODID:-//Grain d&#039;Pixel - ECPv6.15.19//NONSGML v1.0//EN
CALSCALE:GREGORIAN
METHOD:PUBLISH
X-WR-CALNAME:Grain d&#039;Pixel
X-ORIGINAL-URL:https://grain-dpixel.fr/info
X-WR-CALDESC:Évènements pour Grain d&#039;Pixel
REFRESH-INTERVAL;VALUE=DURATION:PT1H
X-Robots-Tag:noindex
X-PUBLISHED-TTL:PT1H
BEGIN:VTIMEZONE
TZID:Europe/Paris
BEGIN:DAYLIGHT
TZOFFSETFROM:+0100
TZOFFSETTO:+0200
TZNAME:CEST
DTSTART:20190331T010000
END:DAYLIGHT
BEGIN:STANDARD
TZOFFSETFROM:+0200
TZOFFSETTO:+0100
TZNAME:CET
DTSTART:20191027T010000
END:STANDARD
BEGIN:DAYLIGHT
TZOFFSETFROM:+0100
TZOFFSETTO:+0200
TZNAME:CEST
DTSTART:20200329T010000
END:DAYLIGHT
BEGIN:STANDARD
TZOFFSETFROM:+0200
TZOFFSETTO:+0100
TZNAME:CET
DTSTART:20201025T010000
END:STANDARD
BEGIN:DAYLIGHT
TZOFFSETFROM:+0100
TZOFFSETTO:+0200
TZNAME:CEST
DTSTART:20210328T010000
END:DAYLIGHT
BEGIN:STANDARD
TZOFFSETFROM:+0200
TZOFFSETTO:+0100
TZNAME:CET
DTSTART:20211031T010000
END:STANDARD
END:VTIMEZONE
BEGIN:VEVENT
DTSTART;VALUE=DATE:20200321
DTEND;VALUE=DATE:20200323
DTSTAMP:20260424T074835
CREATED:20191203T081245Z
LAST-MODIFIED:20200316T081138Z
UID:7792-1584748800-1584921599@grain-dpixel.fr
SUMMARY:ANNULÉ : Sortie photo : Anémones pulsatiles
DESCRIPTION:Annulé en raison de l’épidémie COVID-19\nLa date définitive dépendra de la floraison \nDépart pour être sur place au lever du soleil\nRetour en fin de matinée. \nLes horaires et lieux de rendez-vous seront communiqués ultérieurement. \nMerci de vous inscrire au plus tôt pour prévoir le covoiturage.
URL:https://grain-dpixel.fr/info/event/sortie-photo-anemones-pulsatiles-date-a-confirmer/
CATEGORIES:Sortie photo
ATTACH;FMTTYPE=image/jpeg:https://grain-dpixel.fr/info/wp-content/uploads/2019/12/240319@Yves-Gravelin-1.jpg
END:VEVENT
BEGIN:VEVENT
DTSTART;VALUE=DATE:20200329
DTEND;VALUE=DATE:20200330
DTSTAMP:20260424T074835
CREATED:20191203T081627Z
LAST-MODIFIED:20200316T081308Z
UID:7794-1585440000-1585526399@grain-dpixel.fr
SUMMARY:ANNULÉ : Sortie photo : Anémones pulsatiles
DESCRIPTION:Annulé en raison de l’épidémie COVID-19\nLa date définitive dépendra de la floraison \nDépart pour être sur place au lever du soleil\nRetour en fin de matinée. \nLes horaires et lieux de rendez-vous seront communiqués ultérieurement. \nMerci de vous inscrire au plus tôt pour prévoir le covoiturage.
URL:https://grain-dpixel.fr/info/event/sortie-photo-anemones-pulsatiles-date-a-confirmer-2/
ATTACH;FMTTYPE=image/jpeg:https://grain-dpixel.fr/info/wp-content/uploads/2019/12/240319@Yves-Gravelin-1.jpg
END:VEVENT
END:VCALENDAR