BEGIN:VCALENDAR
VERSION:2.0
PRODID:-//Grain d&#039;Pixel - ECPv6.15.19//NONSGML v1.0//EN
CALSCALE:GREGORIAN
METHOD:PUBLISH
X-WR-CALNAME:Grain d&#039;Pixel
X-ORIGINAL-URL:https://grain-dpixel.fr/info
X-WR-CALDESC:Évènements pour Grain d&#039;Pixel
REFRESH-INTERVAL;VALUE=DURATION:PT1H
X-Robots-Tag:noindex
X-PUBLISHED-TTL:PT1H
BEGIN:VTIMEZONE
TZID:Europe/Paris
BEGIN:DAYLIGHT
TZOFFSETFROM:+0100
TZOFFSETTO:+0200
TZNAME:CEST
DTSTART:20190331T010000
END:DAYLIGHT
BEGIN:STANDARD
TZOFFSETFROM:+0200
TZOFFSETTO:+0100
TZNAME:CET
DTSTART:20191027T010000
END:STANDARD
BEGIN:DAYLIGHT
TZOFFSETFROM:+0100
TZOFFSETTO:+0200
TZNAME:CEST
DTSTART:20200329T010000
END:DAYLIGHT
BEGIN:STANDARD
TZOFFSETFROM:+0200
TZOFFSETTO:+0100
TZNAME:CET
DTSTART:20201025T010000
END:STANDARD
BEGIN:DAYLIGHT
TZOFFSETFROM:+0100
TZOFFSETTO:+0200
TZNAME:CEST
DTSTART:20210328T010000
END:DAYLIGHT
BEGIN:STANDARD
TZOFFSETFROM:+0200
TZOFFSETTO:+0100
TZNAME:CET
DTSTART:20211031T010000
END:STANDARD
END:VTIMEZONE
BEGIN:VEVENT
DTSTART;TZID=Europe/Paris:20200118T083000
DTEND;TZID=Europe/Paris:20200118T163000
DTSTAMP:20260424T113815
CREATED:20191203T074333Z
LAST-MODIFIED:20200115T075754Z
UID:7782-1579336200-1579365000@grain-dpixel.fr
SUMMARY:REPORTÉ : Sortie Photo : Neige à Arc-Sous-Cicon
DESCRIPTION:Reporté à une date ultérieure.\nUn Whatsapp sera lancé quand la neige sera là ! \nPhotos de neige.\nDépart prévu de Rivotte à 8h30\nCasse croute tiré du sac\nRetour en fin d’après-midi. \nLe lieu peut être modifié selon l’enneigement. \nMerci de vous inscrire pour prévoir le co-voiturage
URL:https://grain-dpixel.fr/info/event/sortie-photo-neige-a-arc-sous-cicon/
LOCATION:Arc-Sous-Cicon
CATEGORIES:Sortie photo
END:VEVENT
END:VCALENDAR