BEGIN:VCALENDAR
VERSION:2.0
PRODID:-//Grain d&#039;Pixel - ECPv6.15.19//NONSGML v1.0//EN
CALSCALE:GREGORIAN
METHOD:PUBLISH
X-ORIGINAL-URL:https://grain-dpixel.fr/info
X-WR-CALDESC:Évènements pour Grain d&#039;Pixel
REFRESH-INTERVAL;VALUE=DURATION:PT1H
X-Robots-Tag:noindex
X-PUBLISHED-TTL:PT1H
BEGIN:VTIMEZONE
TZID:Europe/Paris
BEGIN:DAYLIGHT
TZOFFSETFROM:+0100
TZOFFSETTO:+0200
TZNAME:CEST
DTSTART:20170326T010000
END:DAYLIGHT
BEGIN:STANDARD
TZOFFSETFROM:+0200
TZOFFSETTO:+0100
TZNAME:CET
DTSTART:20171029T010000
END:STANDARD
BEGIN:DAYLIGHT
TZOFFSETFROM:+0100
TZOFFSETTO:+0200
TZNAME:CEST
DTSTART:20180325T010000
END:DAYLIGHT
BEGIN:STANDARD
TZOFFSETFROM:+0200
TZOFFSETTO:+0100
TZNAME:CET
DTSTART:20181028T010000
END:STANDARD
BEGIN:DAYLIGHT
TZOFFSETFROM:+0100
TZOFFSETTO:+0200
TZNAME:CEST
DTSTART:20190331T010000
END:DAYLIGHT
BEGIN:STANDARD
TZOFFSETFROM:+0200
TZOFFSETTO:+0100
TZNAME:CET
DTSTART:20191027T010000
END:STANDARD
END:VTIMEZONE
BEGIN:VEVENT
DTSTART;TZID=Europe/Paris:20181214T143000
DTEND;TZID=Europe/Paris:20181214T210000
DTSTAMP:20260425T164046
CREATED:20180908T190030Z
LAST-MODIFIED:20181213T201834Z
UID:6216-1544797800-1544821200@grain-dpixel.fr
SUMMARY:Sortie photo - Marché de Noël - Montbéliard
DESCRIPTION:Montbéliard a un magnifique marché de Noël\, beaucoup d’illuminations ! Aussi intéressant de jour que de nuit. \nDépart en milieu d’après-midi pour varier les plaisirs : plein jour\, heure bleue puis nocturne. \nLa météo s’annonce belle ! \nUn rendez-vous co-voiturage prévu vendredi à 14h30\, carrefour Chalezeule\, parking près de la station carburant.
URL:https://grain-dpixel.fr/info/event/sortie-photo-marche-de-noel-montbeliard/
LOCATION:Montbéliard
CATEGORIES:Sortie photo
END:VEVENT
END:VCALENDAR