BEGIN:VCALENDAR
VERSION:2.0
PRODID:-//Grain d&#039;Pixel - ECPv6.15.19//NONSGML v1.0//EN
CALSCALE:GREGORIAN
METHOD:PUBLISH
X-ORIGINAL-URL:https://grain-dpixel.fr/info
X-WR-CALDESC:Évènements pour Grain d&#039;Pixel
REFRESH-INTERVAL;VALUE=DURATION:PT1H
X-Robots-Tag:noindex
X-PUBLISHED-TTL:PT1H
BEGIN:VTIMEZONE
TZID:Europe/Paris
BEGIN:DAYLIGHT
TZOFFSETFROM:+0100
TZOFFSETTO:+0200
TZNAME:CEST
DTSTART:20180325T010000
END:DAYLIGHT
BEGIN:STANDARD
TZOFFSETFROM:+0200
TZOFFSETTO:+0100
TZNAME:CET
DTSTART:20181028T010000
END:STANDARD
BEGIN:DAYLIGHT
TZOFFSETFROM:+0100
TZOFFSETTO:+0200
TZNAME:CEST
DTSTART:20190331T010000
END:DAYLIGHT
BEGIN:STANDARD
TZOFFSETFROM:+0200
TZOFFSETTO:+0100
TZNAME:CET
DTSTART:20191027T010000
END:STANDARD
BEGIN:DAYLIGHT
TZOFFSETFROM:+0100
TZOFFSETTO:+0200
TZNAME:CEST
DTSTART:20200329T010000
END:DAYLIGHT
BEGIN:STANDARD
TZOFFSETFROM:+0200
TZOFFSETTO:+0100
TZNAME:CET
DTSTART:20201025T010000
END:STANDARD
END:VTIMEZONE
BEGIN:VEVENT
DTSTART;TZID=Europe/Paris:20190921T130000
DTEND;TZID=Europe/Paris:20190921T200000
DTSTAMP:20260425T180606
CREATED:20190328T232337Z
LAST-MODIFIED:20190823T073528Z
UID:6916-1569070800-1569096000@grain-dpixel.fr
SUMMARY:Rallye Photo Besançon 2019
DESCRIPTION:Pour la 4ème année consécutive\, un jeu photographique ouvert à tous !\nCette année\, il marque l’ouverture officielle du Festival Photographie Besançon 2019 ! \n\nhttp://grain-dpixel.fr/info/wp-content/uploads/2019/03/jcdecaux-1-rallye-grain-dpixel.mp4\nInscriptions en cliquant sur ce lien
URL:https://grain-dpixel.fr/info/event/rallye-photo-besancon-2019/
CATEGORIES:Sortie photo
END:VEVENT
END:VCALENDAR