BEGIN:VCALENDAR
VERSION:2.0
PRODID:-//Grain d&#039;Pixel - ECPv6.15.19//NONSGML v1.0//EN
CALSCALE:GREGORIAN
METHOD:PUBLISH
X-ORIGINAL-URL:https://grain-dpixel.fr/info
X-WR-CALDESC:Évènements pour Grain d&#039;Pixel
REFRESH-INTERVAL;VALUE=DURATION:PT1H
X-Robots-Tag:noindex
X-PUBLISHED-TTL:PT1H
BEGIN:VTIMEZONE
TZID:Europe/Paris
BEGIN:DAYLIGHT
TZOFFSETFROM:+0100
TZOFFSETTO:+0200
TZNAME:CEST
DTSTART:20240331T010000
END:DAYLIGHT
BEGIN:STANDARD
TZOFFSETFROM:+0200
TZOFFSETTO:+0100
TZNAME:CET
DTSTART:20241027T010000
END:STANDARD
BEGIN:DAYLIGHT
TZOFFSETFROM:+0100
TZOFFSETTO:+0200
TZNAME:CEST
DTSTART:20250330T010000
END:DAYLIGHT
BEGIN:STANDARD
TZOFFSETFROM:+0200
TZOFFSETTO:+0100
TZNAME:CET
DTSTART:20251026T010000
END:STANDARD
BEGIN:DAYLIGHT
TZOFFSETFROM:+0100
TZOFFSETTO:+0200
TZNAME:CEST
DTSTART:20260329T010000
END:DAYLIGHT
BEGIN:STANDARD
TZOFFSETFROM:+0200
TZOFFSETTO:+0100
TZNAME:CET
DTSTART:20261025T010000
END:STANDARD
END:VTIMEZONE
BEGIN:VEVENT
DTSTART;TZID=Europe/Paris:20250308T090000
DTEND;TZID=Europe/Paris:20250308T180000
DTSTAMP:20260423T032341
CREATED:20250110T095309Z
LAST-MODIFIED:20250110T103909Z
UID:16741-1741424400-1741456800@grain-dpixel.fr
SUMMARY:Immersion en photographie de rues à Besançon - Masterclass animée par Cyril Abad
DESCRIPTION:Le thème de cette masterclass est la création d’un projet photographique narratif à travers la pratique de la photographie de rue à Besançon. \nCette formation de quatre jours permettra aux participants une immersion totale pour réaliser une série photographique complète\, sous ma direction constante. \nLes journées seront divisées en sessions de prises de vue\, d’édition et d’échanges. Le dernier jour inclura une présentation collective ou un vernissage des travaux réalisés. \nObjectifs pédagogiques\nDévelopper une narration à travers le processus de création d’une série photographique sur le territoire de Besançon. \nLes objectifs spécifiques comprennent :\n• Se familiariser avec les techniques propres à la pratique de la photographie de rue.\n• Identifier et mettre en valeur les points forts de votre approche créative.\n• Maîtriser le portrait dans le paysage urbain. \nCyril Abad\nJe vis et travaille en France en tant que photographe indépendant depuis une quinzaine d’années. Spécialisé initialement en photographie de publicité et de mode\, j’ai orienté mon travail vers le documentaire à partir de 2012\, adoptant un regard singulier et souvent décalé sur la place de l’homme dans la société. \nMes reportages\, traités avec humour et originalité\, incluent des sujets comme « Blackpool\, les vacances du Brexit »\, « Orange is the new zoo »\, et “The last dreamers”. En 2016\, j’ai entamé un projet de quatre ans sur les formes originales de la religion aux États-Unis\, intitulé « IN GOD WE TRUST »\, qui offre une vision dissonante de nos sociétés contemporaines. \nMes travaux sont régulièrement publiés dans la presse française et internationale et ont été exposés dans des festivals et biennales de renom. Lauréat de la grande commande photographique du ministère de la Culture et de la BNF en 2021 avec le projet “France magique”. \nPublic\nCette masterclass est destinée aux photographes amateurs\, aux professionnels ainsi qu’aux journalistes. \nDates\nSamedi 8 et dimanche 9 mars 2025\nSamedi 29 et dimanche 30 mars 2025 \nTarif\nNon adhérent —– > 350 € \nAdhérent ———– > 300 € \nAvec une possibilité de paiement en 2 fois \nSi vous souhaitez bénéficier de la réduction adhérent et que vous n’êtes pas adhérent\, il faut adhérer au préalable ICI \nInformations complémentaires et inscription\nPlus d’informations et inscription en cliquant ICI\nou en utilisant le QR Code ci-dessous : \n\n 
URL:https://grain-dpixel.fr/info/event/immersion-en-photographie-de-rues-a-besancon-masterclass-animee-par-cyril-abad-2/
LOCATION:HOPHOPHOP
CATEGORIES:Catalogue de stages,Masterclass
ATTACH;FMTTYPE=image/png:https://grain-dpixel.fr/info/wp-content/uploads/2025/01/street-abad_GdP.png
END:VEVENT
BEGIN:VEVENT
DTSTART;TZID=Europe/Paris:20250308T090000
DTEND;TZID=Europe/Paris:20250308T180000
DTSTAMP:20260423T032341
CREATED:20250110T102553Z
LAST-MODIFIED:20250302T155413Z
UID:16752-1741424400-1741456800@grain-dpixel.fr
SUMMARY:Raconter la ville de demain - Masterclass animée par Mathias Zwick
DESCRIPTION:Cette masterclass de 4 jours vise à faire réfléchir les participants sur la ville de demain. \nÀ l’heure du dérèglement climatique\, les municipalités doivent faire preuve d’adaptation et d’inventivité dans leurs plans d’urbanisme et dans les nouvelles façons d’habiter et de vivre la ville. \nL’apparition des nouvelles technologies dans la gestion des villes avec le concept grandissant de « smart city » pose aussi la question de savoir si la ville du futur prend une voie utopique ou dystopique. La ville doit se réinventer. Elle doit affronter les enjeux climatiques et permettre plus de mixité sociale. \nCette dynamique du changement passe aussi par ses habitants : des initiatives associatives aux actions individuelles. Les participants de cette masterclass devront identifier à Besançon une histoire d’aujourd’hui qui\, selon eux\, pourrait être représentative de la ville de demain. Ils pourront adopter un style répondant aux codes classiques du photojournalisme ou choisir d’adopter un style plus personnel qu’ils souhaitent trouver ou affirmer. \nL’accent sera mis sur l’élaboration d’un storytelling fort\, efficace et au rythme juste\, impliquant autant de la photographie de paysages urbains que des portraits ou des détails. L’ensemble des séries réalisées par les participants entreront en dialogue pour nous présenter un aperçu global de ce que pourrait être le Besançon du futur. \nMathias accompagnera les participants tout au long du processus créatif en les guidant pas à pas\, en les aidant à déterminer une méthodologie efficace\, en leur partageant sa façon de travailler\, en leur montrant des exemples de séries\, en les faisant dépasser leurs acquis et surtout en leur donnant confiance dans la qualité de leur travail et leur statut de photographe. \nObjectifs\nTravailler de manière complète le processus d’élaboration d’une série : \n\nRecherche de l’idée\, documentation\, repérages\, prises de contacts\nRéflexion préalable sur l’adéquation entre le fond et la forme\nPhotographier sur le terrain\nGérer les imprévus et s’adapter\nRetoucher ses images\, editing\nEcriture du texte accompagnant la série\n\nMathias Zwick\nNé en 1990 à Pertuis (France)\, Mathias Zwick est un photographe indépendant membre d’Inland\, une coopérative internationale de photographes documentaires. \nAprès un Master en droit de la propriété intellectuelle et une expérience professionnelle en tant que juriste dans les médias\, c’est en autodidacte qu’il décide de se lancer dans la photographie. \nSon travail a été publié dans la presse française et étrangère\, et des médias comme Libération\, Le Monde ou l’Obs font appel à lui pour des travaux de commande. Ses séries ont aussi été présentées dans des festivals et expositions en France et à l’étranger. Mathias a réalisé sa première installation en 2021 lors d’une résidence à l’Espaï l’Abraçada (Pasa\, France). Il y a présenté sa série « La Fièvre des Samedis Noirs » dans les décors reconstitués d’une boîte de nuit et d’un salon feutré\, lieux de ses prises de vue dans le travail documentaire qu’il a mené sur le monde de la nuit pendant la pandémie. \nEn 2022\, il a été lauréat de la grande commande nationale du ministère de la Culture et de la Bibliothèque nationale de France « Radioscopie de la France ». Grâce à cette bourse\, il a pu parcourir les routes de France pour produire une série documentaire sur le rapport des Français à la voiture. Ce travail fait maintenant partie de la collection photographique de la BnF et a fait l’objet d’expositions en 2024. \nPublic\nCette masterclass est destinée aux photographes amateurs\, aux professionnels ainsi qu’aux journalistes. \nDates\nSamedi 8 et dimanche 9 mars 2025\nSamedi 10 mai 2025\nDimanche 8 juin 2025 \nTarif\nNon adhérent —– > 350 € \nAdhérent ———– > 300 € \nAvec une possibilité de paiement en 2 fois \nSi vous souhaitez bénéficier de la réduction adhérent et que vous n’êtes pas adhérent\, il faut adhérer au préalable ICI \nInformations complémentaires et inscription\nPlus d’informations et inscription en cliquant ICI\nou en utilisant le QR Code ci-dessous :
URL:https://grain-dpixel.fr/info/event/raconter-la-ville-de-demain-masterclass-animee-par-mathias-zwick/
LOCATION:HOPHOPHOP
CATEGORIES:Catalogue de stages,Masterclass
ATTACH;FMTTYPE=image/jpeg:https://grain-dpixel.fr/info/wp-content/uploads/2025/01/Mathias_Zwick_Masterclass_2025-1.jpg
END:VEVENT
END:VCALENDAR