BEGIN:VCALENDAR
VERSION:2.0
PRODID:-//Grain d&#039;Pixel - ECPv6.15.19//NONSGML v1.0//EN
CALSCALE:GREGORIAN
METHOD:PUBLISH
X-WR-CALNAME:Grain d&#039;Pixel
X-ORIGINAL-URL:https://grain-dpixel.fr/info
X-WR-CALDESC:Évènements pour Grain d&#039;Pixel
REFRESH-INTERVAL;VALUE=DURATION:PT1H
X-Robots-Tag:noindex
X-PUBLISHED-TTL:PT1H
BEGIN:VTIMEZONE
TZID:Europe/Paris
BEGIN:DAYLIGHT
TZOFFSETFROM:+0100
TZOFFSETTO:+0200
TZNAME:CEST
DTSTART:20230326T010000
END:DAYLIGHT
BEGIN:STANDARD
TZOFFSETFROM:+0200
TZOFFSETTO:+0100
TZNAME:CET
DTSTART:20231029T010000
END:STANDARD
BEGIN:DAYLIGHT
TZOFFSETFROM:+0100
TZOFFSETTO:+0200
TZNAME:CEST
DTSTART:20240331T010000
END:DAYLIGHT
BEGIN:STANDARD
TZOFFSETFROM:+0200
TZOFFSETTO:+0100
TZNAME:CET
DTSTART:20241027T010000
END:STANDARD
BEGIN:DAYLIGHT
TZOFFSETFROM:+0100
TZOFFSETTO:+0200
TZNAME:CEST
DTSTART:20250330T010000
END:DAYLIGHT
BEGIN:STANDARD
TZOFFSETFROM:+0200
TZOFFSETTO:+0100
TZNAME:CET
DTSTART:20251026T010000
END:STANDARD
END:VTIMEZONE
BEGIN:VEVENT
DTSTART;VALUE=DATE:20241123
DTEND;VALUE=DATE:20241125
DTSTAMP:20260423T112341
CREATED:20240317T202152Z
LAST-MODIFIED:20240726T060341Z
UID:15515-1732320000-1732492799@grain-dpixel.fr
SUMMARY:Immersion Documentaire : Raconter une histoire en photographie - Masterclass animée par Mélanie Wenger
DESCRIPTION:Dans cette masterclass\, l’accent est mis sur le storytelling en photographie documentaire. Les participants seront guidés pour définir et raconter une histoire à travers leurs photographies. \n\n\n\nIls apprendront à capturer non seulement des images\, mais aussi à raconter des récits qui évoquent des émotions\, posent des questions et révèlent des vérités profondes sur leurs sujets. \n\n\n\nLa photographie documentaire\, plus qu’une simple capture de moments\, est un art narratif puissant. Elle permet de raconter des histoires complexes à travers des séries d’images\, où chaque photographie contribue à une compréhension plus profonde du sujet. \n\n\n\nDans cette masterclass\, les participants exploreront comment utiliser la lumière\, la composition\, et le contexte pour enrichir leurs récits. Ils apprendront à créer des séries d’images qui se complètent et racontent une histoire cohérente et captivante. \nObjectifs pédagogiques\n\n\n\n• Créer une série photographique unique avec une forte composante narrative. • Approfondir la construction d’une narration visuelle\, en s’appuyant sur la photographie documentaire. • Gérer les défis du terrain et établir une relation durable et transparente avec les sujets. • Développer et affirmer un point de vue distinct à travers un récit visuel. \n\n\n\nPublic\n\n\n\nCette masterclass s’adresse à un public de photographes amateurs et semi-professionnels\, journalistes et professionnels de l’image désireux de prendre des risques\, travailler en immersion\, dépasser leurs limites et passer à un niveau supérieur dans leur pratique photographique. \n\n\n\nAvec Mélanie Wenger\n\n\n\nBiographie\n\n\n\nMélanie Wenger est photographe documentaire française. Diplômée de Lettres et d’un Master en photographie\, elle est membre fondatrice de la coopérative de photographes Inland et développe des travaux documentaires au long cours sur des problématiques sociales et environnementales. \n\n\n\nElle expose son travail dans les festivals de photographie internationaux et dans les institutions et galeries françaises (BnF\, Visa pour l’Image\, Galerie Esther Woerderhoff). Contributrice de National Geographic\, elle travaille avec la presse française et internationale (L’Obs\, Le Figaro Magazine\, Stern\, Geo …). \n\n\n\nEn 2017\, elle reçoit le Prix HSBC pour la photographie. Sa monographie « Marie-Claude »\, éditée chez Actes Sud montre un portrait intime de l’exclusion dans lequel transparaît une relation fondatrice dans le travail de la photographe. \n\n\n\nMélanie Wenger a été l’invitée d’honneur du Festival Photographie de Besançon 2023.  Son exposition de la série « Marie-Claude »  à la galerie de l’ancienne poste de Besançon a été un réel succès. \n\n\n\nNote spéciale\n\n\n\nLes participants sont encouragés à choisir une histoire à travers un personnage\, un corps de métier ou une communauté pour explorer des perspectives uniques et questionner des thèmes qui les intéressent. \n\n\n\nCet exercice à long terme permettra de capturer l’essence de leur sujet et de raconter une histoire humaine et profonde. \n\n\n\nDéroulement et dates\n\n\n\nLa masterclass se déroule sur 4 jours\, répartis sur plusieurs mois\, pour permettre un développement approfondi du projet documentaire. \n\n\n\n\nSession 1 sur  2 jours\n\n\n\n\nJour 1 : \n\n\n\n• Introduction à la masterclass\, présentation de Mélanie Wenger\, exploration des influences photographiques pour créer une narration. • Définition du sujet\, choix et approche du sujet ou des personnages\, élaboration et présentation du projet. \n\n\n\nJour 2 : \n\n\n\n• Accompagnement sur la définition du sujet • Elaboration du déroulé de la narration • Echanges de groupe\, débriefing\, conseils pour établir une relation durable avec le sujet et les personnages. \n\n\n\n\nSession 2 virtuelle sur 1 journée\n\n\n\n\nJour 3 : \n\n\n\n• Sessions virtuelles individuelles pour l’édition des images à mi-parcours\, accompagnées de retours constructifs. \n\n\n\n\nSession 3 sur 1 jour\n\n\n\n\nJour 4 : \n\n\n\n• Editing final et séquençage des images. • Préparation et conseils pour la restitution finale du projet. \n\n\n\nDates\n\n\n\nSession 1 – 2 jours \n\n\n\nSamedi 23 et dimanche 24 novembre 2024 \n\n\n\nSession 2 – 1 jour \n\n\n\nA définir avec chaque participant. \n\n\n\nSession 3 – 1 jour \n\n\n\nA définir lors de la 1ère session \n\n\n\nTarif\n\n\n\nTarif  non-adhérent Grain d’Pixel = 350 €\n\n\n\nTarif  adhérent Grain d’Pixel = 250 €\n\n\n\nPaiement possible en 2 fois sans frais\n\n\n\nInscription\n\n\n\n En cliquant ici\n\n\n\nou en utilisant le QR code suivant :\n \nRappel : le montant de l’adhésion est de 35 € —-> Pour adhérer.
URL:https://grain-dpixel.fr/info/event/immersion-documentaire-raconter-une-histoire-en-photographie-masterclass-animee-par-melanie-wenger/
LOCATION:HOPHOPHOP
CATEGORIES:Catalogue de stages,Masterclass
ATTACH;FMTTYPE=image/jpeg:https://grain-dpixel.fr/info/wp-content/uploads/2024/03/Visuel-Masterclass-2024.jpg
END:VEVENT
END:VCALENDAR