BEGIN:VCALENDAR
VERSION:2.0
PRODID:-//Grain d&#039;Pixel - ECPv6.15.19//NONSGML v1.0//EN
CALSCALE:GREGORIAN
METHOD:PUBLISH
X-ORIGINAL-URL:https://grain-dpixel.fr/info
X-WR-CALDESC:Évènements pour Grain d&#039;Pixel
REFRESH-INTERVAL;VALUE=DURATION:PT1H
X-Robots-Tag:noindex
X-PUBLISHED-TTL:PT1H
BEGIN:VTIMEZONE
TZID:Europe/Paris
BEGIN:DAYLIGHT
TZOFFSETFROM:+0100
TZOFFSETTO:+0200
TZNAME:CEST
DTSTART:20230326T010000
END:DAYLIGHT
BEGIN:STANDARD
TZOFFSETFROM:+0200
TZOFFSETTO:+0100
TZNAME:CET
DTSTART:20231029T010000
END:STANDARD
BEGIN:DAYLIGHT
TZOFFSETFROM:+0100
TZOFFSETTO:+0200
TZNAME:CEST
DTSTART:20240331T010000
END:DAYLIGHT
BEGIN:STANDARD
TZOFFSETFROM:+0200
TZOFFSETTO:+0100
TZNAME:CET
DTSTART:20241027T010000
END:STANDARD
BEGIN:DAYLIGHT
TZOFFSETFROM:+0100
TZOFFSETTO:+0200
TZNAME:CEST
DTSTART:20250330T010000
END:DAYLIGHT
BEGIN:STANDARD
TZOFFSETFROM:+0200
TZOFFSETTO:+0100
TZNAME:CET
DTSTART:20251026T010000
END:STANDARD
END:VTIMEZONE
BEGIN:VEVENT
DTSTART;TZID=Europe/Paris:20240914T090000
DTEND;TZID=Europe/Paris:20240914T170000
DTSTAMP:20260423T152003
CREATED:20240626T184902Z
LAST-MODIFIED:20240910T081320Z
UID:15796-1726304400-1726333200@grain-dpixel.fr
SUMMARY:Immersion en photographie de rues à Besançon - Masterclass animée par Cyril Abad
DESCRIPTION:Grain d’Pixel Vous propose une masterclass animée par Cyril ABAD\n  \nImmersion en photographie de rues à Besançon\n  \n \n  \nLe thème de cette masterclass est la création d’un projet photographique narratif à travers la pratique de la photographie de rue à Besançon. Cette formation de quatre jours permettra aux participants une immersion totale pour réaliser une série photographique complète\, sous ma direction constante. Les journées seront divisées en sessions de prises de vue\, d’édition et d’échanges. Le dernier jour inclura une présentation collective ou un vernissage des travaux réalisés.\nPublic\nCette masterclass est destinée aux photographes amateurs\, aux professionnels ainsi qu’aux journalistes.\nObjectifs pédagogiques\nDévelopper une narration à travers le processus de création d’une série photographique sur le territoire de Besançon.\nLes objectifs spécifiques comprennent :\n• Se familiariser avec les techniques propres à la pratique de la photographie de rue.\n• Identifier et mettre en valeur les points forts de votre approche créative.\n• Maîtriser le portrait dans le paysage urbain.\nLa masterclass se déroule sur 4 jours\, répartis sur deux mois\, pour permettre un développement approfondi du projet documentaire.\nDéroulement\n\n\nJour 1 (9h-12h / 14h-17h) : Accueil et introduction. Présentations des participants et discussion sur les projets et thèmes à développer. Introduction aux grands courants de la photographie de rue. Premières prises de vue en groupe à Besançon.\n\n\n\n\nJour 2 (9h-12h / 14h-17h) : Retour sur la séance précédente et introduction à la narration en photographie. Nouvelles sessions de prises de vue avec missions individuelles.\n\n\n\n\nJour 3 (9h-12h / 14h-17h) : Discussion sur les prises de vue de la veille et deuxième session d’édition pour créer une histoire visuelle cohérente. Suite des prises de vue avec missions individuelles.\n\n\n\n\nJour 4 (9h-12h / 14h-17h) : Editing final du portfolio en sessions individuelles avec le photographe. Temps alloué pour le post-traitement. Restitution et présentation collective des travaux en fin de journée.\n\n\nDates\nSamedi 14 et dimanche 15 septembre\nSamedi 5 et dimanche 6 octobre\n  \nInformations et Inscriptions\nEn cliquant ici  \nOu en utilisant le QR Code ci-dessous
URL:https://grain-dpixel.fr/info/event/immersion-en-photographie-de-rues-a-besancon-masterclass-animee-par-cyril-abad/
LOCATION:HOPHOPHOP
CATEGORIES:Catalogue de stages,Masterclass
ATTACH;FMTTYPE=image/jpeg:https://grain-dpixel.fr/info/wp-content/uploads/2024/06/R6A6523-Modifier-2-1200x675-1.jpg
END:VEVENT
END:VCALENDAR