BEGIN:VCALENDAR
VERSION:2.0
PRODID:-//Grain d&#039;Pixel - ECPv6.15.19//NONSGML v1.0//EN
CALSCALE:GREGORIAN
METHOD:PUBLISH
X-ORIGINAL-URL:https://grain-dpixel.fr/info
X-WR-CALDESC:Évènements pour Grain d&#039;Pixel
REFRESH-INTERVAL;VALUE=DURATION:PT1H
X-Robots-Tag:noindex
X-PUBLISHED-TTL:PT1H
BEGIN:VTIMEZONE
TZID:Europe/Paris
BEGIN:DAYLIGHT
TZOFFSETFROM:+0100
TZOFFSETTO:+0200
TZNAME:CEST
DTSTART:20220327T010000
END:DAYLIGHT
BEGIN:STANDARD
TZOFFSETFROM:+0200
TZOFFSETTO:+0100
TZNAME:CET
DTSTART:20221030T010000
END:STANDARD
BEGIN:DAYLIGHT
TZOFFSETFROM:+0100
TZOFFSETTO:+0200
TZNAME:CEST
DTSTART:20230326T010000
END:DAYLIGHT
BEGIN:STANDARD
TZOFFSETFROM:+0200
TZOFFSETTO:+0100
TZNAME:CET
DTSTART:20231029T010000
END:STANDARD
BEGIN:DAYLIGHT
TZOFFSETFROM:+0100
TZOFFSETTO:+0200
TZNAME:CEST
DTSTART:20240331T010000
END:DAYLIGHT
BEGIN:STANDARD
TZOFFSETFROM:+0200
TZOFFSETTO:+0100
TZNAME:CET
DTSTART:20241027T010000
END:STANDARD
END:VTIMEZONE
BEGIN:VEVENT
DTSTART;TZID=Europe/Paris:20230325T100000
DTEND;TZID=Europe/Paris:20230325T160000
DTSTAMP:20260425T004728
CREATED:20230127T160003Z
LAST-MODIFIED:20230323T104330Z
UID:14188-1679738400-1679760000@grain-dpixel.fr
SUMMARY:Masterclass - Créer une série de détails - Avec Anabelle Michon
DESCRIPTION:Masterclass – Créer une série de détails\nAnimatrice\nAnabelle Michon. \nActuellement photographe à Besançon\, elle travaille pour la presse (les échos week-end\, M le magazine du monde…). Anabelle fait également les photos du « festival de caves » (théâtre) à Besançon depuis 2020 (brochure\, site\, exposition…) et elle travaille pour différents collectifs/structures bisontines : juste ici\, 3615 senior\, côté cour. \nElle intervient dans les écoles pour éveiller à l’image et monter des projets photo avec des enfants. Anabelle réalise aussi des projets photo dans des quartiers sensibles (Montrapon\, Clairs-soleils) et elle fait des expositions et de l’auto-édition. \nDescriptif et objectifs du projet\n\nDéambulation pendant une séance afin de produire des images.\nPoint d’étape avant de refaire deux séances de prise de vue en gardant en tête les commentaires échangés lors de l’analyse des premières images.\nSéance d’editing\, de mise en page\, etc… afin d’élaborer la construction d’un livre qui rassemble tous les projets des participants.\nCréation d’un livre (mise en page sous logiciel\, ajout de texte\, envoi à l’impression ou façonnage…)\n\nDéroulement des séances avec Anabelle Michon\nLe stage se déroule sur 7 séances de 2 heures de mars à juin : \nLes 2 premières  séances se dérouleront le 25 mars 2023 \n– Matin         : de 10h à 12h \n– Après-midi : de 14h à 16h \nLa date des autres séances seront à définir entre participants. \nParticularité \nCette masterclass ne pourra se dérouler que si 7 participants au minimum sont inscrits. \nTarif\n200 € avec possibilité de paiement en plusieurs fois \n\n  \n 
URL:https://grain-dpixel.fr/info/event/masterclass-creer-une-serie-de-details-avec-anabelle-michon/
LOCATION:HOPHOPHOP
CATEGORIES:Catalogue de stages,Stages et ateliers
ATTACH;FMTTYPE=image/jpeg:https://grain-dpixel.fr/info/wp-content/uploads/2023/01/masterclass_gants_anabelle-michon.jpg
END:VEVENT
END:VCALENDAR