BEGIN:VCALENDAR
VERSION:2.0
PRODID:-//Grain d&#039;Pixel - ECPv6.15.19//NONSGML v1.0//EN
CALSCALE:GREGORIAN
METHOD:PUBLISH
X-ORIGINAL-URL:https://grain-dpixel.fr/info
X-WR-CALDESC:Évènements pour Grain d&#039;Pixel
REFRESH-INTERVAL;VALUE=DURATION:PT1H
X-Robots-Tag:noindex
X-PUBLISHED-TTL:PT1H
BEGIN:VTIMEZONE
TZID:Europe/Paris
BEGIN:DAYLIGHT
TZOFFSETFROM:+0100
TZOFFSETTO:+0200
TZNAME:CEST
DTSTART:20180325T010000
END:DAYLIGHT
BEGIN:STANDARD
TZOFFSETFROM:+0200
TZOFFSETTO:+0100
TZNAME:CET
DTSTART:20181028T010000
END:STANDARD
BEGIN:DAYLIGHT
TZOFFSETFROM:+0100
TZOFFSETTO:+0200
TZNAME:CEST
DTSTART:20190331T010000
END:DAYLIGHT
BEGIN:STANDARD
TZOFFSETFROM:+0200
TZOFFSETTO:+0100
TZNAME:CET
DTSTART:20191027T010000
END:STANDARD
BEGIN:DAYLIGHT
TZOFFSETFROM:+0100
TZOFFSETTO:+0200
TZNAME:CEST
DTSTART:20200329T010000
END:DAYLIGHT
BEGIN:STANDARD
TZOFFSETFROM:+0200
TZOFFSETTO:+0100
TZNAME:CET
DTSTART:20201025T010000
END:STANDARD
END:VTIMEZONE
BEGIN:VEVENT
DTSTART;TZID=Europe/Paris:20190621T190000
DTEND;TZID=Europe/Paris:20190621T210000
DTSTAMP:20260420T031221
CREATED:20181019T215243Z
LAST-MODIFIED:20190620T122531Z
UID:6591-1561143600-1561150800@grain-dpixel.fr
SUMMARY:ANNULÉ : Démarche artistique
DESCRIPTION:Ce groupe vous est ouvert si vous êtes à un moment où vous avez envie d’évoluer dans votre pratique artistique\, affirmer votre style ou vous souhaitez développer un projet personnel (préparation livre\, expo…). \n\n\n\n\n\nChaque mois\, en comité restreint\, vous faites le point et repartez avec des suggestions\, de l’aide\, un peu comme un coaching… \nC’est un travail individuel\, certes\, où l’apport de tout le groupe bénéficie à chacun\, c’est pourquoi votre assiduité est importante ! (si vous n’avez pas avancé sur votre projet perso\, les autres attendent tout de même votre avis sur leur avancée) \nLa séance se termine souvent avec un verre et quelques grignotages. Si vous en avez l’élan\, vos apports sont les bienvenus !
URL:https://grain-dpixel.fr/info/event/demarche-artistique-22/
LOCATION:Centre de Formation Agricole\, 10 Rue François Villon\, Besançon\, 25000\, France
CATEGORIES:Pratique artistique
END:VEVENT
END:VCALENDAR