BEGIN:VCALENDAR
VERSION:2.0
PRODID:-//Grain d&#039;Pixel - ECPv6.15.19//NONSGML v1.0//EN
CALSCALE:GREGORIAN
METHOD:PUBLISH
X-WR-CALNAME:Grain d&#039;Pixel
X-ORIGINAL-URL:https://grain-dpixel.fr/info
X-WR-CALDESC:Évènements pour Grain d&#039;Pixel
REFRESH-INTERVAL;VALUE=DURATION:PT1H
X-Robots-Tag:noindex
X-PUBLISHED-TTL:PT1H
BEGIN:VTIMEZONE
TZID:Europe/Paris
BEGIN:DAYLIGHT
TZOFFSETFROM:+0100
TZOFFSETTO:+0200
TZNAME:CEST
DTSTART:20160327T010000
END:DAYLIGHT
BEGIN:STANDARD
TZOFFSETFROM:+0200
TZOFFSETTO:+0100
TZNAME:CET
DTSTART:20161030T010000
END:STANDARD
BEGIN:DAYLIGHT
TZOFFSETFROM:+0100
TZOFFSETTO:+0200
TZNAME:CEST
DTSTART:20170326T010000
END:DAYLIGHT
BEGIN:STANDARD
TZOFFSETFROM:+0200
TZOFFSETTO:+0100
TZNAME:CET
DTSTART:20171029T010000
END:STANDARD
BEGIN:DAYLIGHT
TZOFFSETFROM:+0100
TZOFFSETTO:+0200
TZNAME:CEST
DTSTART:20180325T010000
END:DAYLIGHT
BEGIN:STANDARD
TZOFFSETFROM:+0200
TZOFFSETTO:+0100
TZNAME:CET
DTSTART:20181028T010000
END:STANDARD
END:VTIMEZONE
BEGIN:VEVENT
DTSTART;TZID=Europe/Paris:20170612T190000
DTEND;TZID=Europe/Paris:20170612T220000
DTSTAMP:20260424T005307
CREATED:20170106T223318Z
LAST-MODIFIED:20170609T201630Z
UID:3576-1497294000-1497304800@grain-dpixel.fr
SUMMARY:Démarche artistique : soirée annuelle
DESCRIPTION:Cette séance est réservée aux adhérents de l’association.   Elle sera consacrée à la préparation de nos deux expositions de l’automne.Les infos sont dans le forum et dans la newsletter du 9/6/17. \nCe groupe vous est ouvert si vous êtes à un moment où vous avez envie d’évoluer dans votre pratique artistique\, affirmer votre style ou vous souhaitez développer un projet personnel. \n\n\n\n\n\nChaque mois\, en comité restreint\, vous faites le point et repartez avec des suggestions\, de l’aide\, un peu comme un coaching… \nC’est un travail individuel qui bénéficie de l’apport de tout le groupe\, c’est pourquoi une certaine assiduité est importante ! \nLa séance se termine souvent avec un verre et quelques grignotages. Si vous en avez l’élan\, vos apports sont les bienvenus !
URL:https://grain-dpixel.fr/info/event/demarche-artistique-soiree-annuelle/
LOCATION:Centre de Formation Agricole\, 10 Rue François Villon\, Besançon\, 25000\, France
CATEGORIES:Pratique artistique
END:VEVENT
END:VCALENDAR