BEGIN:VCALENDAR
VERSION:2.0
PRODID:-//Grain d&#039;Pixel - ECPv6.15.19//NONSGML v1.0//EN
CALSCALE:GREGORIAN
METHOD:PUBLISH
X-ORIGINAL-URL:https://grain-dpixel.fr/info
X-WR-CALDESC:Évènements pour Grain d&#039;Pixel
REFRESH-INTERVAL;VALUE=DURATION:PT1H
X-Robots-Tag:noindex
X-PUBLISHED-TTL:PT1H
BEGIN:VTIMEZONE
TZID:Europe/Paris
BEGIN:DAYLIGHT
TZOFFSETFROM:+0100
TZOFFSETTO:+0200
TZNAME:CEST
DTSTART:20150329T010000
END:DAYLIGHT
BEGIN:STANDARD
TZOFFSETFROM:+0200
TZOFFSETTO:+0100
TZNAME:CET
DTSTART:20151025T010000
END:STANDARD
BEGIN:DAYLIGHT
TZOFFSETFROM:+0100
TZOFFSETTO:+0200
TZNAME:CEST
DTSTART:20160327T010000
END:DAYLIGHT
BEGIN:STANDARD
TZOFFSETFROM:+0200
TZOFFSETTO:+0100
TZNAME:CET
DTSTART:20161030T010000
END:STANDARD
BEGIN:DAYLIGHT
TZOFFSETFROM:+0100
TZOFFSETTO:+0200
TZNAME:CEST
DTSTART:20170326T010000
END:DAYLIGHT
BEGIN:STANDARD
TZOFFSETFROM:+0200
TZOFFSETTO:+0100
TZNAME:CET
DTSTART:20171029T010000
END:STANDARD
END:VTIMEZONE
BEGIN:VEVENT
DTSTART;TZID=Europe/Paris:20160617T190000
DTEND;TZID=Europe/Paris:20160617T220000
DTSTAMP:20260424T231457
CREATED:20160425T203932Z
LAST-MODIFIED:20160702T102437Z
UID:1999-1466190000-1466200800@grain-dpixel.fr
SUMMARY:Démarche artistique : bilan
DESCRIPTION:Ouvert à tous : les membres du groupe du lundi ayant travaillé sur leur démarche artistique vous présentent leur travail de l’année\, quel qu’en soit le degré d’avancement. \n\nce qu’ils voulaient faire\, pourquoi et comment\nleur démarrage\, les freins\, les déceptions\, les réussites\nune série représentative de leur travail au point où il en est (4 à 12 photos)\ncomment ils entrevoient la suite de leur projet\nce que leur a apporté ce travail en groupe\n…\n\n 
URL:https://grain-dpixel.fr/info/event/demarche-artistique-bilan/
LOCATION:Centre de Formation Agricole\, 10 Rue François Villon\, Besançon\, 25000\, France
CATEGORIES:Pratique artistique
END:VEVENT
END:VCALENDAR