BEGIN:VCALENDAR
VERSION:2.0
PRODID:-//Grain d&#039;Pixel - ECPv6.15.19//NONSGML v1.0//EN
CALSCALE:GREGORIAN
METHOD:PUBLISH
X-ORIGINAL-URL:https://grain-dpixel.fr/info
X-WR-CALDESC:Évènements pour Grain d&#039;Pixel
REFRESH-INTERVAL;VALUE=DURATION:PT1H
X-Robots-Tag:noindex
X-PUBLISHED-TTL:PT1H
BEGIN:VTIMEZONE
TZID:Europe/Paris
BEGIN:DAYLIGHT
TZOFFSETFROM:+0100
TZOFFSETTO:+0200
TZNAME:CEST
DTSTART:20140330T010000
END:DAYLIGHT
BEGIN:STANDARD
TZOFFSETFROM:+0200
TZOFFSETTO:+0100
TZNAME:CET
DTSTART:20141026T010000
END:STANDARD
BEGIN:DAYLIGHT
TZOFFSETFROM:+0100
TZOFFSETTO:+0200
TZNAME:CEST
DTSTART:20150329T010000
END:DAYLIGHT
BEGIN:STANDARD
TZOFFSETFROM:+0200
TZOFFSETTO:+0100
TZNAME:CET
DTSTART:20151025T010000
END:STANDARD
BEGIN:DAYLIGHT
TZOFFSETFROM:+0100
TZOFFSETTO:+0200
TZNAME:CEST
DTSTART:20160327T010000
END:DAYLIGHT
BEGIN:STANDARD
TZOFFSETFROM:+0200
TZOFFSETTO:+0100
TZNAME:CET
DTSTART:20161030T010000
END:STANDARD
END:VTIMEZONE
BEGIN:VEVENT
DTSTART;TZID=Europe/Paris:20151019T190000
DTEND;TZID=Europe/Paris:20151019T210000
DTSTAMP:20260425T155159
CREATED:20150927T144145Z
LAST-MODIFIED:20151018T092433Z
UID:484-1445281200-1445288400@grain-dpixel.fr
SUMMARY:ATTENTION - Changement de lieu - Vers une pratique artistique
DESCRIPTION:ATTENTION : Modification de lieu. \nLa séance  se tiendra à Thise\, la société IMAGINEZ! nous hébergera pour la soirée. \nElle se situe 22 bis rue du Rond buisson à Thise\, dans la Zone industrielle au dessus de UB-BIJOUX.\nL’accès se fait par l’arrière du bâtiment. \n———————————————————————————————————————- \nCe groupe vous est ouvert si vous êtes à un moment où vous avez envie d’évoluer dans votre pratique artistique\, affirmer votre style ou vous souhaitez développer un projet personnel. \n\n\n\n\n\nChaque mois\, en comité restreint\, vous faites le point et repartez avec des suggestions\, de l’aide\, un peu comme un coaching… \nC’est un travail individuel qui bénéficie de l’apport de tout le groupe\, c’est pourquoi une certaine assiduité est importante ! \nLa séance se termine souvent avec un verre et quelques grignotages. Si vous en avez l’élan\, vos apports sont les bienvenus ! \nNous testons la mise en place  d’un système d’inscription aux événements. Nous devrions obtenir une traduction dans les semaines à venir. Merci de participer à ce test en vous inscrivant à l’aide du bouton ci-dessous. \n[wpecr_registration_button]
URL:https://grain-dpixel.fr/info/event/484/
LOCATION:Grain d’Pixel hébergé par IMAGINEZ!\, 22bis rue du Rond Buisson\, THISE\, 25220\, France
CATEGORIES:Pratique artistique
END:VEVENT
END:VCALENDAR