BEGIN:VCALENDAR
VERSION:2.0
PRODID:-//Grain d&#039;Pixel - ECPv6.15.19//NONSGML v1.0//EN
CALSCALE:GREGORIAN
METHOD:PUBLISH
X-ORIGINAL-URL:https://grain-dpixel.fr/info
X-WR-CALDESC:Évènements pour Grain d&#039;Pixel
REFRESH-INTERVAL;VALUE=DURATION:PT1H
X-Robots-Tag:noindex
X-PUBLISHED-TTL:PT1H
BEGIN:VTIMEZONE
TZID:Europe/Paris
BEGIN:DAYLIGHT
TZOFFSETFROM:+0100
TZOFFSETTO:+0200
TZNAME:CEST
DTSTART:20220327T010000
END:DAYLIGHT
BEGIN:STANDARD
TZOFFSETFROM:+0200
TZOFFSETTO:+0100
TZNAME:CET
DTSTART:20221030T010000
END:STANDARD
BEGIN:DAYLIGHT
TZOFFSETFROM:+0100
TZOFFSETTO:+0200
TZNAME:CEST
DTSTART:20230326T010000
END:DAYLIGHT
BEGIN:STANDARD
TZOFFSETFROM:+0200
TZOFFSETTO:+0100
TZNAME:CET
DTSTART:20231029T010000
END:STANDARD
BEGIN:DAYLIGHT
TZOFFSETFROM:+0100
TZOFFSETTO:+0200
TZNAME:CEST
DTSTART:20240331T010000
END:DAYLIGHT
BEGIN:STANDARD
TZOFFSETFROM:+0200
TZOFFSETTO:+0100
TZNAME:CET
DTSTART:20241027T010000
END:STANDARD
END:VTIMEZONE
BEGIN:VEVENT
DTSTART;TZID=Europe/Paris:20230617T100000
DTEND;TZID=Europe/Paris:20230617T180000
DTSTAMP:20260424T010004
CREATED:20230523T085313Z
LAST-MODIFIED:20230724T084113Z
UID:14612-1686996000-1687024800@grain-dpixel.fr
SUMMARY:Exposition de notre Masterclass "A fleur d'eau"
DESCRIPTION:A fleur d’eau\, des plantes ont posé leurs fleurs étoilées aux couleurs éclatantes. Autour d’elles\, une faune discrète ou chantante glisse\, virevolte ou s’abrite à l’ombre des grandes feuilles flottantes. \nHôte de toute une vie aquatique\, miroir des feuillages chatoyants\, étale ou ridée par le vent\, l »eau structure l’espace et décline le paysage. Au fil des heures\, des jours et des saisons\, elle compose et anime avec la lumière\, des tableaux changeants. \nChacun des photographes\, avec son regard singulier\, vous invite à entrer dans cet espace\, et à découvrir\, au-delà de la beauté qui s’impose\, tout ce qu’il recèle de mystère et de poésie. \n  \nMASTERCLASS de l’association Grain d’pixel. Photos réalisées sur une année dans des jardins aquatiques. \nA la galerie de l’ancienne poste \nDu samedi 17 Juin au dimanche 25 \nVernissage : vendredi 16 Juin à 18h \n  \nHoraires : samedi et dimanche : de 10h à 18h00 \nMardi à vendredi : de 14h à 18h \nFermé le lundi. \n 
URL:https://grain-dpixel.fr/info/event/exposition-de-notre-masterclass-a-fleur-deau/
CATEGORIES:Atelier,Exposition GDP,MasterClass
ATTACH;FMTTYPE=image/jpeg:https://grain-dpixel.fr/info/wp-content/uploads/2023/05/Affiche-juin-2023-a-fleur-d-eau-1.jpg
END:VEVENT
END:VCALENDAR