BEGIN:VCALENDAR
VERSION:2.0
PRODID:-//Grain d&#039;Pixel - ECPv6.15.19//NONSGML v1.0//EN
CALSCALE:GREGORIAN
METHOD:PUBLISH
X-WR-CALNAME:Grain d&#039;Pixel
X-ORIGINAL-URL:https://grain-dpixel.fr/info
X-WR-CALDESC:Évènements pour Grain d&#039;Pixel
REFRESH-INTERVAL;VALUE=DURATION:PT1H
X-Robots-Tag:noindex
X-PUBLISHED-TTL:PT1H
BEGIN:VTIMEZONE
TZID:Europe/Paris
BEGIN:DAYLIGHT
TZOFFSETFROM:+0100
TZOFFSETTO:+0200
TZNAME:CEST
DTSTART:20200329T010000
END:DAYLIGHT
BEGIN:STANDARD
TZOFFSETFROM:+0200
TZOFFSETTO:+0100
TZNAME:CET
DTSTART:20201025T010000
END:STANDARD
BEGIN:DAYLIGHT
TZOFFSETFROM:+0100
TZOFFSETTO:+0200
TZNAME:CEST
DTSTART:20210328T010000
END:DAYLIGHT
BEGIN:STANDARD
TZOFFSETFROM:+0200
TZOFFSETTO:+0100
TZNAME:CET
DTSTART:20211031T010000
END:STANDARD
BEGIN:DAYLIGHT
TZOFFSETFROM:+0100
TZOFFSETTO:+0200
TZNAME:CEST
DTSTART:20220327T010000
END:DAYLIGHT
BEGIN:STANDARD
TZOFFSETFROM:+0200
TZOFFSETTO:+0100
TZNAME:CET
DTSTART:20221030T010000
END:STANDARD
END:VTIMEZONE
BEGIN:VEVENT
DTSTART;TZID=Europe/Paris:20210410T140000
DTEND;TZID=Europe/Paris:20210410T170000
DTSTAMP:20260426T015620
CREATED:20210322T164249Z
LAST-MODIFIED:20210514T170743Z
UID:8742-1618063200-1618074000@grain-dpixel.fr
SUMMARY:MasterClass 2021
DESCRIPTION:Réunion d’étape. \nCette réunion est réservée aux membres participant à la MasterClass 2021.
URL:https://grain-dpixel.fr/info/event/masterclass-2021/
LOCATION:Zoom
CATEGORIES:Atelier,MasterClass
ATTACH;FMTTYPE=image/jpeg:https://grain-dpixel.fr/info/wp-content/uploads/2021/02/logo-resultat-MasterClass.jpg
END:VEVENT
BEGIN:VEVENT
DTSTART;TZID=Europe/Paris:20210424T140000
DTEND;TZID=Europe/Paris:20210424T170000
DTSTAMP:20260426T015620
CREATED:20210322T164332Z
LAST-MODIFIED:20210514T170809Z
UID:8745-1619272800-1619283600@grain-dpixel.fr
SUMMARY:MasterClass 2021
DESCRIPTION:Réunion d’étape. \nCette réunion est réservée aux membres participant à la MasterClass 2021.
URL:https://grain-dpixel.fr/info/event/8745/
LOCATION:Zoom
CATEGORIES:Atelier,MasterClass
ATTACH;FMTTYPE=image/jpeg:https://grain-dpixel.fr/info/wp-content/uploads/2021/02/logo-resultat-MasterClass.jpg
END:VEVENT
END:VCALENDAR