BEGIN:VCALENDAR
VERSION:2.0
PRODID:-//Grain d&#039;Pixel - ECPv6.15.19//NONSGML v1.0//EN
CALSCALE:GREGORIAN
METHOD:PUBLISH
X-WR-CALNAME:Grain d&#039;Pixel
X-ORIGINAL-URL:https://grain-dpixel.fr/info
X-WR-CALDESC:Évènements pour Grain d&#039;Pixel
REFRESH-INTERVAL;VALUE=DURATION:PT1H
X-Robots-Tag:noindex
X-PUBLISHED-TTL:PT1H
BEGIN:VTIMEZONE
TZID:Europe/Paris
BEGIN:DAYLIGHT
TZOFFSETFROM:+0100
TZOFFSETTO:+0200
TZNAME:CEST
DTSTART:20220327T010000
END:DAYLIGHT
BEGIN:STANDARD
TZOFFSETFROM:+0200
TZOFFSETTO:+0100
TZNAME:CET
DTSTART:20221030T010000
END:STANDARD
BEGIN:DAYLIGHT
TZOFFSETFROM:+0100
TZOFFSETTO:+0200
TZNAME:CEST
DTSTART:20230326T010000
END:DAYLIGHT
BEGIN:STANDARD
TZOFFSETFROM:+0200
TZOFFSETTO:+0100
TZNAME:CET
DTSTART:20231029T010000
END:STANDARD
BEGIN:DAYLIGHT
TZOFFSETFROM:+0100
TZOFFSETTO:+0200
TZNAME:CEST
DTSTART:20240331T010000
END:DAYLIGHT
BEGIN:STANDARD
TZOFFSETFROM:+0200
TZOFFSETTO:+0100
TZNAME:CET
DTSTART:20241027T010000
END:STANDARD
END:VTIMEZONE
BEGIN:VEVENT
DTSTART;TZID=Europe/Paris:20230105T180000
DTEND;TZID=Europe/Paris:20230105T210000
DTSTAMP:20260425T232327
CREATED:20221217T195801Z
LAST-MODIFIED:20221217T195801Z
UID:13649-1672941600-1672952400@grain-dpixel.fr
SUMMARY:MasterClass Acorus
DESCRIPTION:Réunion de sélection des photos
URL:https://grain-dpixel.fr/info/event/masterclass-acorus/
LOCATION:Centre de Formation Agricole\, 10 Rue François Villon\, Besançon\, 25000\, France
CATEGORIES:Atelier,MasterClass
END:VEVENT
BEGIN:VEVENT
DTSTART;TZID=Europe/Paris:20230107T140000
DTEND;TZID=Europe/Paris:20230107T180000
DTSTAMP:20260425T232327
CREATED:20230106T190040Z
LAST-MODIFIED:20230107T105439Z
UID:13610-1673100000-1673114400@grain-dpixel.fr
SUMMARY:Atelier portraits
DESCRIPTION:Atelier portraits Rendez vous à Hôp Hôp Hôp – 5 Place Saint-Jacques\, 25000 Besançon   \nPour le matériel : \n\nVotre appareil photo\, carte vide\, accu bien chargé.\nobjectif de 35 à 85 mm équivalent 24×36\ntrépied\ntélécommande (si possible – sinon retardateur sur l’appareil)\n\nSi vous avez : \n\nordinateur avec lecteur de carte pour visionnage\ndes fonds et leurs supports\ndes réflecteurs\ndes flashes déportés et accessoires\ndes lampes en continu et accessoires\nRallonges et prises multiples\nLes accessoires de mise en scène que vous jugez utiles.
URL:https://grain-dpixel.fr/info/event/atelier-portraits/
CATEGORIES:Atelier
ATTACH;FMTTYPE=image/jpeg:https://grain-dpixel.fr/info/wp-content/uploads/2018/05/CLAUDIE-3©Esther-Raguenet.jpg
END:VEVENT
END:VCALENDAR