BEGIN:VCALENDAR
VERSION:2.0
PRODID:-//Grain d&#039;Pixel - ECPv6.15.19//NONSGML v1.0//EN
CALSCALE:GREGORIAN
METHOD:PUBLISH
X-ORIGINAL-URL:https://grain-dpixel.fr/info
X-WR-CALDESC:Évènements pour Grain d&#039;Pixel
REFRESH-INTERVAL;VALUE=DURATION:PT1H
X-Robots-Tag:noindex
X-PUBLISHED-TTL:PT1H
BEGIN:VTIMEZONE
TZID:Europe/Paris
BEGIN:DAYLIGHT
TZOFFSETFROM:+0100
TZOFFSETTO:+0200
TZNAME:CEST
DTSTART:20210328T010000
END:DAYLIGHT
BEGIN:STANDARD
TZOFFSETFROM:+0200
TZOFFSETTO:+0100
TZNAME:CET
DTSTART:20211031T010000
END:STANDARD
BEGIN:DAYLIGHT
TZOFFSETFROM:+0100
TZOFFSETTO:+0200
TZNAME:CEST
DTSTART:20220327T010000
END:DAYLIGHT
BEGIN:STANDARD
TZOFFSETFROM:+0200
TZOFFSETTO:+0100
TZNAME:CET
DTSTART:20221030T010000
END:STANDARD
BEGIN:DAYLIGHT
TZOFFSETFROM:+0100
TZOFFSETTO:+0200
TZNAME:CEST
DTSTART:20230326T010000
END:DAYLIGHT
BEGIN:STANDARD
TZOFFSETFROM:+0200
TZOFFSETTO:+0100
TZNAME:CET
DTSTART:20231029T010000
END:STANDARD
END:VTIMEZONE
BEGIN:VEVENT
DTSTART;TZID=Europe/Paris:20221014T183000
DTEND;TZID=Europe/Paris:20221014T213000
DTSTAMP:20260426T051056
CREATED:20220903T185156Z
LAST-MODIFIED:20220927T113406Z
UID:11004-1665772200-1665783000@grain-dpixel.fr
SUMMARY:Stage - Light painting par San Art - Session du 14 Octobre 2022
DESCRIPTION:Stage photo animé par San Art dans le cadre du Festival Photographie Besançon 2022 qui se déroule du 24 Septembre au 6 Novembre 2022. \nSan Art est passionné par la photographie et l’art en général . Il débute son cursus de photographe-illustrateur par la technique du Light painting. « Ce qui me plait dans la technique du light painting\, c’est son originalité\, tant au niveau de la création que de la réalisation ». \n(Une autre session de ce stage est organisée le 30 Septembre 2022) \nPour tous renseignements et inscriptions\, merci de cliquer le lien ci-dessous : \nhttps://www.helloasso.com/associations/grain-d-pixel/evenements/stage-light-painting-par-san-art-session-du-14-octobre-2022 \n 
URL:https://grain-dpixel.fr/info/event/stage-light-painting-par-san-art-session-du-14-octobre-2022/
CATEGORIES:Atelier
ATTACH;FMTTYPE=image/jpeg:https://grain-dpixel.fr/info/wp-content/uploads/2022/08/IMG_12709078-scaled.jpg
END:VEVENT
BEGIN:VEVENT
DTSTART;TZID=Europe/Paris:20221015T080000
DTEND;TZID=Europe/Paris:20221015T180000
DTSTAMP:20260426T051056
CREATED:20220903T183327Z
LAST-MODIFIED:20220903T191320Z
UID:10993-1665820800-1665856800@grain-dpixel.fr
SUMMARY:Stage - La photo de rues par Jean Charles Sexe - Session du 15 Octobre 2022
DESCRIPTION:Stage photo animé par Jean-Charles Sexe dans le cadre du Festival Photographie Besançon 2022 qui se déroule du 24 Septembre au 6 Novembre 2022. Jean-Charles Sexe est un photojournaliste avec une longue expérience de la photo de rues\n(Une autre session de ce stage photo de rues est organisée le 29 octobre 2022)\n\nApprendre comment réussir une bonne photographie de rues. Les conseils seront rarement techniques mais plus axés sur l’état d’esprit à avoir quand on fait des images dans les rues d’une ville.\nconditions matérielles décrites dans le lien d’inscription.\n\nStage réservé aux photographes ayant déjà une petite maitrise de la technique photographique et équipés d’un matériel adapté à la photo de rues (reflex ou hybride).\n\nPour tous renseignements et inscriptions\, merci de cliquer le lien ci-dessous :\nhttps://www.helloasso.com/associations/grain-d-pixel/evenements/stage-la-photo-de-rues-session-du-29-octobre-2022?fbclid=IwAR12jSTOhvn0gjtxGpVBUzvNZ8wBRhJTc16mVTr67jhkyxJ2Y99hohIVvHg
URL:https://grain-dpixel.fr/info/event/photos-de-rue-anime-par-jean-charles-sexe/
CATEGORIES:Atelier
ATTACH;FMTTYPE=image/jpeg:https://grain-dpixel.fr/info/wp-content/uploads/2022/08/Visuel_photo-rue.jpg
END:VEVENT
BEGIN:VEVENT
DTSTART;TZID=Europe/Paris:20221015T080000
DTEND;TZID=Europe/Paris:20221016T180000
DTSTAMP:20260426T051056
CREATED:20221003T084150Z
LAST-MODIFIED:20221003T084546Z
UID:11126-1665820800-1665943200@grain-dpixel.fr
SUMMARY:MASTER CLASS - CHARLES DELCOURT - 1ère phase - les 15 et 16 octobre
DESCRIPTION:Cette MasterClass s’articule autour du travail documentaire et de la notion de territoire.\nIl s’agira de photographier le quartier Battant à Besançon afin de constituer un regard pluriel et sensible sur un territoire défini\, sa spécificité et ses acteurs.\n3 semaines pour construire une réflexion collective nourrie de la somme des différentes approches photographiques de chaque participant. \nA travers la MasterCLass\, chacun pourra continuer à développer son écriture photographique et la renforcer.\nChacun pourra prendre du recul sur ses images et échanger autour de la série en construction.\nLa possibilité d’échange et la force du groupe permettent des regards extérieurs sur sa photographie.\nC’est l’occasion de nommer les choses\, aspect compliqué de la photo étant donné que l’acte photographique est souvent instinctif\, non réfléchi (mais ressenti !). \nFace à la contrainte d’un « exercice » sur un temps donné\, cette MasterClass peut-être abordée selon deux orientations ou manières très différentes en fonction des envies/besoins de chacun des participants : \n\nSoit faire avancer sa pratique et son écriture. Définir si besoin et insister sur ses points faibles/points forts. Enrichir et conforter la démarche photographique.\nSoit l’occasion d’essayer autre chose\, une approche\, un traitement ou une manière de procéder différente\, hors de notre zone de confort.\n\nLa finalité est une restitution collective\, le choix des sujets se fera sur la base d’une réflexion du groupe au démarrage de la MasterClass\, ensemble pour permettre la complémentarité des portfolios. \nLe premier week-end permettra de définir un sujet (qui pourra toujours évoluer) pour chacun.\nLe choix d’un sujet étant éminemment difficile\, il s’agit de trouver ensemble un principe\, un angle de démarrage qui évoluera le temps du premier weekend et peut être même après. \nLa MasterClass se développe selon plusieurs axes : \n\nLa construction d’une série photographique cohérente basé sur l’écriture des participants. Editing\, lecture et articulation des images entre elles.\nLa mise en cohérence du propos et des images.\nLe rapport « aux gens » et le fameux problème : Comment les aborder ?\nLe suivi adapté aux envies/besoin de chacun\n\nRestitution  \nPlusieurs pistes sont envisagées. En fonction de certains partenariats et des travaux réalisés\, il existe plusieurs niveaux de restitutions imaginés\, du papier aux murs…\nOn sait juste que ça va être bien. \nLes différents temps de la MasterClass ( Horaires à vérifier)  \n\n15-16 Octobre. Rencontre et présentation.  Discussion autour de la photographie documentaire et de la MasterClass.\nRamenez une sélection d’images ou un sujet\, selon votre manière de procéder\, à projeter. Prise de vue le reste du temps.\nEt surtout 2 jours pour identifier (ou presque) votre sujet.\n\n\n17 oct-04 Nov. Prise du vues selon le rythme de chacun.\nÉchanges et discussions autour de la série en construction via téléphone ou visio-machin.\n\n\n5-6 Novembre. 1 journée entre prise de vue complémentaires et editing perso.\n1 journée d’editing global le dernier jour. Préparation de la restitution. Apéro.\n\nPrévoir des bottes. \nOu pas. \n  \nPour tout renseignement et inscription : \nMasterClass 2022 \n \n 
URL:https://grain-dpixel.fr/info/event/master-class-charles-delcourt/
CATEGORIES:Atelier,MasterClass
ATTACH;FMTTYPE=image/jpeg:https://grain-dpixel.fr/info/wp-content/uploads/2022/08/GrainDPixel-Delcourt-scaled.jpg
END:VEVENT
BEGIN:VEVENT
DTSTART;TZID=Europe/Paris:20221015T090000
DTEND;TZID=Europe/Paris:20221015T123000
DTSTAMP:20260426T051056
CREATED:20220903T185836Z
LAST-MODIFIED:20220927T113459Z
UID:11008-1665824400-1665837000@grain-dpixel.fr
SUMMARY:Les bases de la photographie numérique par Thibaut Froehly
DESCRIPTION:Stage animé par le photographe Thibaut FROEHLY dans le cadre du Festival Photographie Besançon 2022 qui se déroule du 24 Septembre au 6 Novembre 2022 \nNiveau : Débutant Objectifs du stage: – Comprendre le fonctionnement de son appareil à partir des réglages fondamentaux – Réussir ses premières photos « manuelles » – Savoir réaliser des photos nettes et bien exposées dans toutes les situation \nNé en 1987\, Thibaut Froehly est devenu photographe professionnel par passion. Spécialiste de la photo de paysage\, il partage sa vision et son expérience lors de stages et de séjours dédiés. Il est également formateur en photographie. \nhttps://thibaut-froehly.fr  – https:// www.facebook.com/photocratie \nPour tous renseignements et inscriptions\, merci de cliquer le lien ci-dessous : \nhttps://www.helloasso.com/associations/grain-d-pixel/evenements/sg01-les-bases-de-la-photographie-numerique-par-thibaut-froehly
URL:https://grain-dpixel.fr/info/event/les-bases-de-la-photographie-numerique-par-thibaut-froehly/
CATEGORIES:Atelier
ATTACH;FMTTYPE=image/jpeg:https://grain-dpixel.fr/info/wp-content/uploads/2022/09/Portrait.jpg
END:VEVENT
BEGIN:VEVENT
DTSTART;TZID=Europe/Paris:20221015T150000
DTEND;TZID=Europe/Paris:20221015T203000
DTSTAMP:20260426T051056
CREATED:20220903T190450Z
LAST-MODIFIED:20220927T113604Z
UID:11012-1665846000-1665865800@grain-dpixel.fr
SUMMARY:Initiation à la photo de paysage par Thibaut Froehly
DESCRIPTION:Stage animé par le photographe Thibaut FROEHLY dans le cadre du Festival Photographie Besançon 2022 qui se déroule du 24 Septembre au 6 Novembre 2022 \nNiveau : Débutant à confirmé Objectifs du stage: – Réaliser une belle photo de paysage – Comprendre tous les aspects de la photo de paysage – Savoir régler son appareil photo lors de la prise de vue \nNé en 1987\, Thibaut Froehly est devenu photographe professionnel par passion. Spécialiste de la photo de paysage\, il partage sa vision et son expérience lors de stages et de séjours dédiés. Il est également formateur en photographie. \nhttps://thibaut-froehly.fr  – https:// www.facebook.com/photocratie \nPour tous renseignements et inscriptions\, merci de cliquer sur le lien ci-dessous : \nhttps://www.helloasso.com/associations/grain-d-pixel/evenements/sg10-initiation-a-la-photo-de-paysage-par-thibaut-froehly
URL:https://grain-dpixel.fr/info/event/initiation-a-la-photo-de-paysage-par-thibaut-froehly/
CATEGORIES:Atelier
ATTACH;FMTTYPE=image/jpeg:https://grain-dpixel.fr/info/wp-content/uploads/2022/09/stage-paysage-urbain.jpg
END:VEVENT
BEGIN:VEVENT
DTSTART;TZID=Europe/Paris:20221016T090000
DTEND;TZID=Europe/Paris:20221016T130000
DTSTAMP:20260426T051056
CREATED:20220903T190913Z
LAST-MODIFIED:20220927T113359Z
UID:11014-1665910800-1665925200@grain-dpixel.fr
SUMMARY:La photographie numérique noir et blanc par Thibaut Froehly
DESCRIPTION:Stage animé par le photographe Thibaut FROEHLY dans le cadre du Festival Photographie Besançon 2022 qui se déroule du 24 Septembre au 6 Novembre 2022 \nNiveau : Débutant à confirmé \nObjectifs du stage: – Réussir à créer de beaux noir et blanc avec son appareil numérique\, de A à Z – Découvrir un flux de travail pour créer du noir et blanc – Comprendre les effets de la lumière sur le résultat \nNé en 1987\, Thibaut Froehly est devenu photographe professionnel par passion. Spécialiste de la photo de paysage\, il partage sa vision et son expérience lors de stages et de séjours dédiés. Il est également formateur en photographie. \nhttps://thibaut-froehly.fr  – https:// www.facebook.com/photocratie \nPour tous renseignements et inscriptions\, merci de cliquer le lien ci-dessous : \nhttps://www.helloasso.com/associations/grain-d-pixel/evenements/sg60-la-photographie-numerique-noir-et-blanc-par-thibaut-froehly \n  \n 
URL:https://grain-dpixel.fr/info/event/la-photographie-numerique-noir-et-blanc-par-thibaut-froehly/
CATEGORIES:Atelier
ATTACH;FMTTYPE=image/jpeg:https://grain-dpixel.fr/info/wp-content/uploads/2022/09/Noir-et-Blanc-Paysage.jpg
END:VEVENT
BEGIN:VEVENT
DTSTART;TZID=Europe/Paris:20221016T140000
DTEND;TZID=Europe/Paris:20221016T180000
DTSTAMP:20260426T051056
CREATED:20220903T191138Z
LAST-MODIFIED:20220927T113540Z
UID:11016-1665928800-1665943200@grain-dpixel.fr
SUMMARY:La photographie d’architecture par Thibaut Froehly
DESCRIPTION:Stage animé par le photographe Thibaut FROEHLY dans le cadre du Festival Photographie Besançon 2022 qui se déroule du 24 Septembre au 6 Novembre 2022 \nNiveau : Débutant à confirmé \nObjectifs du stage: – • Réussir plusieurs photos d’architecture • Savoir comment stabiliser ou dynamiser ses compositions • Expérimenter différentes approches pour photographier l’architecture grâce à un défi ludique \nNé en 1987\, Thibaut Froehly est devenu photographe professionnel par passion. Spécialiste de la photo de paysage\, il partage sa vision et son expérience lors de stages et de séjours dédiés. Il est également formateur en photographie. \nhttps://thibaut-froehly.fr  – https:// www.facebook.com/photocratie \nPour tous renseignements et inscriptions\, merci de cliquer le lien ci-dessous : \nhttps://www.helloasso.com/associations/grain-d-pixel/evenements/sg63-la-photographie-d-architecture-par-thibaut-froehly \n 
URL:https://grain-dpixel.fr/info/event/la-photographie-darchitecture-par-thibaut-froehly/
CATEGORIES:Atelier
ATTACH;FMTTYPE=image/jpeg:https://grain-dpixel.fr/info/wp-content/uploads/2022/09/Architecture.jpg
END:VEVENT
BEGIN:VEVENT
DTSTART;TZID=Europe/Paris:20221017T080000
DTEND;TZID=Europe/Paris:20221017T180000
DTSTAMP:20260426T051056
CREATED:20221003T084502Z
LAST-MODIFIED:20221003T084846Z
UID:11129-1665993600-1666029600@grain-dpixel.fr
SUMMARY:MASTER CLASS - CHARLES DELCOURT - 2ème phase - 17 octobre au 4 Novembre
DESCRIPTION:Cette MasterClass s’articule autour du travail documentaire et de la notion de territoire.\nIl s’agira de photographier le quartier Battant à Besançon afin de constituer un regard pluriel et sensible sur un territoire défini\, sa spécificité et ses acteurs.\n3 semaines pour construire une réflexion collective nourrie de la somme des différentes approches photographiques de chaque participant. \nA travers la MasterCLass\, chacun pourra continuer à développer son écriture photographique et la renforcer.\nChacun pourra prendre du recul sur ses images et échanger autour de la série en construction.\nLa possibilité d’échange et la force du groupe permettent des regards extérieurs sur sa photographie.\nC’est l’occasion de nommer les choses\, aspect compliqué de la photo étant donné que l’acte photographique est souvent instinctif\, non réfléchi (mais ressenti !). \nFace à la contrainte d’un « exercice » sur un temps donné\, cette MasterClass peut-être abordée selon deux orientations ou manières très différentes en fonction des envies/besoins de chacun des participants : \n\nSoit faire avancer sa pratique et son écriture. Définir si besoin et insister sur ses points faibles/points forts. Enrichir et conforter la démarche photographique.\nSoit l’occasion d’essayer autre chose\, une approche\, un traitement ou une manière de procéder différente\, hors de notre zone de confort.\n\nLa finalité est une restitution collective\, le choix des sujets se fera sur la base d’une réflexion du groupe au démarrage de la MasterClass\, ensemble pour permettre la complémentarité des portfolios. \nLe premier week-end permettra de définir un sujet (qui pourra toujours évoluer) pour chacun.\nLe choix d’un sujet étant éminemment difficile\, il s’agit de trouver ensemble un principe\, un angle de démarrage qui évoluera le temps du premier weekend et peut être même après. \nLa MasterClass se développe selon plusieurs axes : \n\nLa construction d’une série photographique cohérente basé sur l’écriture des participants. Editing\, lecture et articulation des images entre elles.\nLa mise en cohérence du propos et des images.\nLe rapport « aux gens » et le fameux problème : Comment les aborder ?\nLe suivi adapté aux envies/besoin de chacun\n\nRestitution  \nPlusieurs pistes sont envisagées. En fonction de certains partenariats et des travaux réalisés\, il existe plusieurs niveaux de restitutions imaginés\, du papier aux murs…\nOn sait juste que ça va être bien. \nLes différents temps de la MasterClass ( Horaires à vérifier)  \n\n15-16 Octobre. Rencontre et présentation.  Discussion autour de la photographie documentaire et de la MasterClass.\nRamenez une sélection d’images ou un sujet\, selon votre manière de procéder\, à projeter. Prise de vue le reste du temps.\nEt surtout 2 jours pour identifier (ou presque) votre sujet.\n\n\n17 oct-04 Nov. Prise du vues selon le rythme de chacun.\nÉchanges et discussions autour de la série en construction via téléphone ou visio-machin.\n\n\n5-6 Novembre. 1 journée entre prise de vue complémentaires et editing perso.\n1 journée d’editing global le dernier jour. Préparation de la restitution. Apéro.\n\nPrévoir des bottes. \nOu pas. \n  \nPour tout renseignement et inscription : \nMasterClass 2022 \n \n 
URL:https://grain-dpixel.fr/info/event/master-class-charles-delcourt-2eme-phase-15-octobre-au-4-novembre/
CATEGORIES:Atelier,MasterClass
ATTACH;FMTTYPE=image/jpeg:https://grain-dpixel.fr/info/wp-content/uploads/2022/08/GrainDPixel-Delcourt-scaled.jpg
END:VEVENT
BEGIN:VEVENT
DTSTART;TZID=Europe/Paris:20221023T140000
DTEND;TZID=Europe/Paris:20221023T160000
DTSTAMP:20260426T051056
CREATED:20221004T104013Z
LAST-MODIFIED:20221004T104013Z
UID:11150-1666533600-1666540800@grain-dpixel.fr
SUMMARY:La photo haute vitesse - Comment réaliser des collisions de gouttes
DESCRIPTION:Stage animé par Michel Villequey dans le cadre du Festival Photographie Besançon 2022 qui se déroule du 24 Septembre au 6 Novembre 2022 \n  \npour tout renseignement et inscription : \nhttps://www.helloasso.com/associations/grain-d-pixel/evenements/presentation-de-la-photo-haute-vitesse-comment-realiser-des-collisions-de-gouttes \n  \n 
URL:https://grain-dpixel.fr/info/event/la-photo-haute-vitesse-comment-realiser-des-collisions-de-gouttes/
CATEGORIES:Atelier
ATTACH;FMTTYPE=image/jpeg:https://grain-dpixel.fr/info/wp-content/uploads/2022/10/Gouttes2.jpg
END:VEVENT
BEGIN:VEVENT
DTSTART;TZID=Europe/Paris:20221029T080000
DTEND;TZID=Europe/Paris:20221029T180000
DTSTAMP:20260426T051056
CREATED:20220903T183729Z
LAST-MODIFIED:20220903T191348Z
UID:10996-1667030400-1667066400@grain-dpixel.fr
SUMMARY:Stage - La photo de rues par Jean Charles Sexe - Session du 29 Octobre 2022
DESCRIPTION:Stage photo animé par Jean-Charles Sexe dans le cadre du Festival Photographie Besançon 2022 qui se déroule du 24 Septembre au 6 Novembre 2022.\nJean-Charles Sexe est un photojournaliste avec une longue expérience de la photo de rues\n(Une autre session de ce stage photo de rue est organisée le 15 octobre 2022)\n\nApprendre comment réussir une bonne photographie de rues. Les conseils seront rarement techniques mais plus axés sur l’état d’esprit à avoir quand on fait des images dans les rues d’une ville.\nconditions matérielles décrites dans le lien d’inscription.\n\nStage réservé aux photographes ayant déjà une petite maitrise de la technique photographique et équipés d’un matériel adapté à la photo de rues (reflex ou hybride).\n\nPour tous renseignements et inscriptions\, merci de cliquer le lien ci-dessous :\nhttps://www.helloasso.com/associations/grain-d-pixel/evenements/stage-la-photo-de-rues-session-du-29-octobre-2022?fbclid=IwAR1juoGXu-FZHcX9CBw-1rTh8qs4Yc7mL3C4ho64CnxJVCwhWbkpL-VKpkM
URL:https://grain-dpixel.fr/info/event/photos-de-rue-anime-par-jean-charles-sexe-2/
CATEGORIES:Atelier
ATTACH;FMTTYPE=image/jpeg:https://grain-dpixel.fr/info/wp-content/uploads/2022/08/Visuel_photo-rue.jpg
END:VEVENT
END:VCALENDAR